BEGIN:VCALENDAR
VERSION:2.0
PRODID:-//Evangelische Pfarrgemeinde A.B. Wien-Hietzing-Hetzendorf - ECPv6.15.20//NONSGML v1.0//EN
CALSCALE:GREGORIAN
METHOD:PUBLISH
X-WR-CALNAME:Evangelische Pfarrgemeinde A.B. Wien-Hietzing-Hetzendorf
X-ORIGINAL-URL:https://kircheamwege.at
X-WR-CALDESC:Veranstaltungen für Evangelische Pfarrgemeinde A.B. Wien-Hietzing-Hetzendorf
REFRESH-INTERVAL;VALUE=DURATION:PT1H
X-Robots-Tag:noindex
X-PUBLISHED-TTL:PT1H
BEGIN:VTIMEZONE
TZID:Europe/Vienna
BEGIN:DAYLIGHT
TZOFFSETFROM:+0100
TZOFFSETTO:+0200
TZNAME:CEST
DTSTART:20230326T010000
END:DAYLIGHT
BEGIN:STANDARD
TZOFFSETFROM:+0200
TZOFFSETTO:+0100
TZNAME:CET
DTSTART:20231029T010000
END:STANDARD
BEGIN:DAYLIGHT
TZOFFSETFROM:+0100
TZOFFSETTO:+0200
TZNAME:CEST
DTSTART:20240331T010000
END:DAYLIGHT
BEGIN:STANDARD
TZOFFSETFROM:+0200
TZOFFSETTO:+0100
TZNAME:CET
DTSTART:20241027T010000
END:STANDARD
BEGIN:DAYLIGHT
TZOFFSETFROM:+0100
TZOFFSETTO:+0200
TZNAME:CEST
DTSTART:20250330T010000
END:DAYLIGHT
BEGIN:STANDARD
TZOFFSETFROM:+0200
TZOFFSETTO:+0100
TZNAME:CET
DTSTART:20251026T010000
END:STANDARD
END:VTIMEZONE
BEGIN:VEVENT
DTSTART;TZID=Europe/Vienna:20240623T093000
DTEND;TZID=Europe/Vienna:20240623T103000
DTSTAMP:20260422T215023
CREATED:20240201T101857Z
LAST-MODIFIED:20240603T111653Z
UID:244492-1719135000-1719138600@kircheamwege.at
SUMMARY:Gottesdienst mit Konfirmation\, Pfarrer Christopher Türke
DESCRIPTION:
URL:https://kircheamwege.at/event/gottesdienst-mit-konfirmation-pfarrer-christopher-tuerke/
LOCATION:Evang. Pfarrgemeinde A.B. Wien-Hetzendorf\, Biedermanngasse 11-13\, Wien\, Wien\, 1120\, Österreich
CATEGORIES:Gottesdienst HD mit Abendmahl
ATTACH;FMTTYPE=image/jpeg:https://kircheamwege.at/wp-content/uploads/2024/06/24_06-Konfirmation.jpg
END:VEVENT
END:VCALENDAR