BEGIN:VCALENDAR
VERSION:2.0
PRODID:-//Evangelische Pfarrgemeinde A.B. Wien-Hietzing-Hetzendorf - ECPv6.15.20//NONSGML v1.0//EN
CALSCALE:GREGORIAN
METHOD:PUBLISH
X-WR-CALNAME:Evangelische Pfarrgemeinde A.B. Wien-Hietzing-Hetzendorf
X-ORIGINAL-URL:https://kircheamwege.at
X-WR-CALDESC:Veranstaltungen für Evangelische Pfarrgemeinde A.B. Wien-Hietzing-Hetzendorf
REFRESH-INTERVAL;VALUE=DURATION:PT1H
X-Robots-Tag:noindex
X-PUBLISHED-TTL:PT1H
BEGIN:VTIMEZONE
TZID:Europe/Vienna
BEGIN:DAYLIGHT
TZOFFSETFROM:+0100
TZOFFSETTO:+0200
TZNAME:CEST
DTSTART:20250330T010000
END:DAYLIGHT
BEGIN:STANDARD
TZOFFSETFROM:+0200
TZOFFSETTO:+0100
TZNAME:CET
DTSTART:20251026T010000
END:STANDARD
BEGIN:DAYLIGHT
TZOFFSETFROM:+0100
TZOFFSETTO:+0200
TZNAME:CEST
DTSTART:20260329T010000
END:DAYLIGHT
BEGIN:STANDARD
TZOFFSETFROM:+0200
TZOFFSETTO:+0100
TZNAME:CET
DTSTART:20261025T010000
END:STANDARD
BEGIN:DAYLIGHT
TZOFFSETFROM:+0100
TZOFFSETTO:+0200
TZNAME:CEST
DTSTART:20270328T010000
END:DAYLIGHT
BEGIN:STANDARD
TZOFFSETFROM:+0200
TZOFFSETTO:+0100
TZNAME:CET
DTSTART:20271031T010000
END:STANDARD
END:VTIMEZONE
BEGIN:VEVENT
DTSTART;TZID=Europe/Vienna:20260426T100000
DTEND;TZID=Europe/Vienna:20260426T110000
DTSTAMP:20260426T013722
CREATED:20260212T123932Z
LAST-MODIFIED:20260212T123933Z
UID:246209-1777197600-1777201200@kircheamwege.at
SUMMARY:Abendmahlsgottesdienst zu Jubilate in Hietzing\, Lektorinnen Heidemarie Pircher-Reif & Caroline Rapottnig
DESCRIPTION:
URL:https://kircheamwege.at/event/abendmahlsgottesdienst-zu-jubilate-in-hietzing-lektorinnen-heidemarie-pircher-reif-caroline-rapottnig/
LOCATION:Wien
END:VEVENT
BEGIN:VEVENT
DTSTART;TZID=Europe/Vienna:20260426T180000
DTEND;TZID=Europe/Vienna:20260426T190000
DTSTAMP:20260426T013722
CREATED:20260212T095159Z
LAST-MODIFIED:20260212T124100Z
UID:246172-1777226400-1777230000@kircheamwege.at
SUMMARY:Taizé-Gottesdienst zu Jubilate in Hetzendorf\, Pfarrerin Imke Marie Friedrichsdorf
DESCRIPTION:
URL:https://kircheamwege.at/event/taize-gottesdienst-jubilate-hetzendorf-pfarrerin-imke-marie-friedrichsdorf/
LOCATION:Evang. Pfarrgemeinde A.B. Wien-Hetzendorf\, Biedermanngasse 11-13\, Wien\, Wien\, 1120\, Österreich
CATEGORIES:Gottesdienst HD mit Abendmahl
END:VEVENT
END:VCALENDAR