BEGIN:VCALENDAR
VERSION:2.0
PRODID:-//Evangelische Pfarrgemeinde A.B. Wien-Hietzing-Hetzendorf - ECPv6.15.20//NONSGML v1.0//EN
CALSCALE:GREGORIAN
METHOD:PUBLISH
X-WR-CALNAME:Evangelische Pfarrgemeinde A.B. Wien-Hietzing-Hetzendorf
X-ORIGINAL-URL:https://kircheamwege.at
X-WR-CALDESC:Veranstaltungen für Evangelische Pfarrgemeinde A.B. Wien-Hietzing-Hetzendorf
REFRESH-INTERVAL;VALUE=DURATION:PT1H
X-Robots-Tag:noindex
X-PUBLISHED-TTL:PT1H
BEGIN:VTIMEZONE
TZID:Europe/Vienna
BEGIN:DAYLIGHT
TZOFFSETFROM:+0100
TZOFFSETTO:+0200
TZNAME:CEST
DTSTART:20250330T010000
END:DAYLIGHT
BEGIN:STANDARD
TZOFFSETFROM:+0200
TZOFFSETTO:+0100
TZNAME:CET
DTSTART:20251026T010000
END:STANDARD
BEGIN:DAYLIGHT
TZOFFSETFROM:+0100
TZOFFSETTO:+0200
TZNAME:CEST
DTSTART:20260329T010000
END:DAYLIGHT
BEGIN:STANDARD
TZOFFSETFROM:+0200
TZOFFSETTO:+0100
TZNAME:CET
DTSTART:20261025T010000
END:STANDARD
BEGIN:DAYLIGHT
TZOFFSETFROM:+0100
TZOFFSETTO:+0200
TZNAME:CEST
DTSTART:20270328T010000
END:DAYLIGHT
BEGIN:STANDARD
TZOFFSETFROM:+0200
TZOFFSETTO:+0100
TZNAME:CET
DTSTART:20271031T010000
END:STANDARD
END:VTIMEZONE
BEGIN:VEVENT
DTSTART;TZID=Europe/Vienna:20260419T093000
DTEND;TZID=Europe/Vienna:20260419T103000
DTSTAMP:20260420T150059
CREATED:20260212T094911Z
LAST-MODIFIED:20260212T123358Z
UID:246168-1776591000-1776594600@kircheamwege.at
SUMMARY:WSW-Gottesdienst zu Misericordias\, Diakoniesonntag in Hetzendorf\, Lektorin Sabine Kittel
DESCRIPTION:
URL:https://kircheamwege.at/event/wsw-gottesdienst-zum-diakoniesonntag-misericordias-lektorin-sabine-kittel/
LOCATION:Evang. Pfarrgemeinde A.B. Wien-Hetzendorf\, Biedermanngasse 11-13\, Wien\, Wien\, 1120\, Österreich
CATEGORIES:Gottesdienst HD
END:VEVENT
BEGIN:VEVENT
DTSTART;TZID=Europe/Vienna:20260419T190000
DTEND;TZID=Europe/Vienna:20260419T200000
DTSTAMP:20260420T150059
CREATED:20260212T095034Z
LAST-MODIFIED:20260212T095035Z
UID:246170-1776625200-1776628800@kircheamwege.at
SUMMARY:Stille-Oase-Gottesdienst in Alt-Erlaa\, Pfarrerin Ingrid Vogel
DESCRIPTION:
URL:https://kircheamwege.at/event/stille-oase-gottesdienst-in-alt-erlaa-pfarrerin-ingrid-vogel-19/
LOCATION:Evang. Predigtstation Alt-Erlaa A8/03\, Anton-Baumgartner-Straße 44 A8/03\, Wien\, Wien\, 1230\, Österreich
CATEGORIES:Gottesdienst AE mit Abendmahl
END:VEVENT
END:VCALENDAR